BEGIN:VCALENDAR
VERSION:2.0
PRODID:-//Grüne Jugend Baden-Württemberg - ECPv4.6.10.1//NONSGML v1.0//EN
CALSCALE:GREGORIAN
METHOD:PUBLISH
X-WR-CALNAME:Grüne Jugend Baden-Württemberg
X-ORIGINAL-URL:https://alt.gjbw.de
X-WR-CALDESC:Veranstaltungen für Grüne Jugend Baden-Württemberg
BEGIN:VEVENT
DTSTART;TZID=UTC+1:20170810T153000
DTEND;TZID=UTC+1:20170813T140000
DTSTAMP:20260421T133515
CREATED:20170705T143641Z
LAST-MODIFIED:20170705T144054Z
UID:3458-1502379000-1502632800@alt.gjbw.de
SUMMARY:Südcamp "Schön selbstbestimmt – Selbstbestimmt schön"
DESCRIPTION:Vom 10. bis zum 13. August ist es wieder soweit: Zusammen mit euch wollen wir vier tolle Tage bei unserem Südcamp in Markelfingen am Bodensee verbringen. Unter dem Motto „Schön selbstbestimmt – Selbstbestimmt schön“ wird es dieses Jahr thematisch um Feminismus\, speziell um Selbstbestimmung und Schönheit\, gehen. Euch erwarten interessante Workshops und eine Podiumsdiskussion zu diesen Themen\, drum herum ein Freizeitprogramm und natürlich Lagerfeuerabende sowie Samstagabend unsere Party. Das Südcamp wird auf dem Gelände des DGB-Jugendcamps in Markelfingen direkt am Bodensee stattfinden. \nHier das komplette Programm: \nDONNERSTAG\nBis 16:00 Uhr Anreise\n16:00-17:00 Uhr Einrichten und Anmeldung\n17:00-18:00 Uhr Kennenlernen\n19:00 Uhr-20:00 Uhr Abendessen\n20:30 Uhr-22:30 Uhr Planspiel oder Open Space Phase \nFREITAG\n09:30-10:30 Uhr Frühstück\n10:30-12:30 Uhr Workshopphase 1\n12:30-13:30 Uhr Mittagspause\n13:30-15:00 Uhr Open Space\n15:00-18:00 Uhr Workshopphase 2\n18:00-19:00 Uhr Plenum\n19:00-20:00 Uhr Abendessen\nab 20:30 Uhr Abendprogramm \nSAMSTAG\n09:30-10:30 Uhr Frühstück\n10:30-12:30 Uhr Workshopphase 3\n12:30-13:30 Uhr Mittagspause\n13:30-15:00 Workshopphase 4\n15:00-19:00 Uhr Open Space\n19:00- 20:00 Uhr Abendessen\n20:00-21:30 Uhr Plenum/ Diskussion\nab 22:00 Uhr Party \nSONNTAG\n09:30-10:30 Uhr Frühstück\n11:00-12:30 Uhr Workshopphase 5\n12:30-13:00 Uhr Plenum/ Reflektion/ Verabschiedung\n13:00 Aufräumen und Abreise \nWeitere Infos findet ihr unter http://gjsuedcamp.de/infos/ \nIhr wollt dabei sein? Dann meldet euch ab sofort an: http://gjsuedcamp.de/anmelden/ \nDer Teilnahmebeitrag beträgt 30 €\, dafür erhaltet ihr Unterbringung\, Verpflegung und Fahrtkostenerstattung. Wir wollen jedoch niemanden ausschließen\, wenn sie*er den Beitrag zurzeit nicht aufbringen kann. Wenn ihr euch vom Teilnahmebeitrag befreien lassen wollt\, wendet euch einfach vertrauensvoll an unsere Schatzmeisterinnen Ami Lanzinger (Bayern) oder Lea Elsemüller (Baden-Württemberg). \n
URL:https://alt.gjbw.de/veranstaltung/suedcamp/
LOCATION:Am Schlafbach 10\, 78479 Reichenau
END:VEVENT
END:VCALENDAR