BEGIN:VCALENDAR
VERSION:2.0
PRODID:-//Grüne Jugend Baden-Württemberg - ECPv4.6.10.1//NONSGML v1.0//EN
CALSCALE:GREGORIAN
METHOD:PUBLISH
X-WR-CALNAME:Grüne Jugend Baden-Württemberg
X-ORIGINAL-URL:https://alt.gjbw.de
X-WR-CALDESC:Veranstaltungen für Grüne Jugend Baden-Württemberg
BEGIN:VEVENT
DTSTART;TZID=UTC+1:20180930T110000
DTEND;TZID=UTC+1:20180930T170000
DTSTAMP:20260421T192041
CREATED:20180606T082945Z
LAST-MODIFIED:20180925T101533Z
UID:4475-1538305200-1538326800@alt.gjbw.de
SUMMARY:Think Global.Act Local - Konferenz für junge Politik (Stuttgart)
DESCRIPTION:Europa? Digitalisierung? Klimawandel?\nZu tun gibt es genug – auch in Deiner Stadt oder Gemeinde!\n  \n2019 werden neue Gemeinderäte gewählt.\nDu willst die Zukunft selbst in die Hand nehmen?\nDann komm‘ zu unserer Konferenz für junge Politik! \nDich erwarten Keynotes\, Workshops und Diskussionen mit: \n\nAlex Maier\, dem jüngsten Landtagsabgeordneten aus Baden-Württemberg\nLasse Petersdotter und Aminata Touré\, den jüngsten Landtagsabgeordneten aus Schleswig-Holstein\njunggrünen Kommunalpolitiker*innen\nspannenden stadtpolitischen Initiativen\n\nWir freuen uns auf Euch! \nDie Teilnahme ist kostenlos\, um eine formlose Anmeldung an tobias.bacherle@gjbw.de wird gebeten. \n  \nPROGRAMM\n  \n11.00      Begrüßung \n11.15      Impulsvortrag \nAnna Deparnay-Grunenberg\, Fraktionsvorsitzende Bündnis 90/Die GRÜNEN im Gemeinderat Stuttgart \n11.30      Keynote \nAminata Touré MdL & Lasse Petersdotter MdL aus Schleswig-Holstein \n12.30      Visionen brauchen Verbündete \nPitches und Worldcafé von lokalen kommunalpolitischen Initiativen \n\nMobilität:                    Freifahren Stuttgart\nEnergie:                       Kommunale Stadtwerke\nStadtentwicklung:     Agenda Rosenstein\nIntegration:                Junger AK Asyl\nKultur:                          Dit is schade e.V.\n\n13.30      Mittagspause & Fotoaktion \n14.30      Wenn Du etwas ändern kannst\, dann änder‘ es! \nAlex Maier MdL\, Stadtrat in Göppingen. \n15.00      Act Local! – Warum wir vor Ort aktiv werden müssen \nPaula Heinz\, Sprecherin GRÜNE JUGEND Stuttgart \n15.15       Think Global! – Warum wir Politik transnational denken müssen \nMicha Bloss\, ehemaliger Sprecher der Federation of Young European Greens \n15.30      Workshops – Titel und Themenfokus folgen \nBjörn Peterhoff\, Stadtrat Stuttgart \nLena C. Schwelling\, Stadträtin Ulm \nAlexander Mansel\, Stadtrat Neulußheim \n16.45       Ausblick & Verabschiedung \n
URL:https://alt.gjbw.de/veranstaltung/think-global-act-local-konferenz-fuer-junge-politik-stuttgart/
LOCATION:Königstraße 78\, 70173 Stuttgart
ATTACH;FMTTYPE=image/jpeg:https://alt.gjbw.de/wp-content/uploads/2018/06/38845499_2367066043333610_7943201809592483840_n.jpg
END:VEVENT
END:VCALENDAR