BEGIN:VCALENDAR
VERSION:2.0
PRODID:-//Grüne Jugend Baden-Württemberg - ECPv4.6.10.1//NONSGML v1.0//EN
CALSCALE:GREGORIAN
METHOD:PUBLISH
X-WR-CALNAME:Grüne Jugend Baden-Württemberg
X-ORIGINAL-URL:https://alt.gjbw.de
X-WR-CALDESC:Veranstaltungen für Grüne Jugend Baden-Württemberg
BEGIN:VEVENT
DTSTART;TZID=UTC+1:20170512T160000
DTEND;TZID=UTC+1:20170514T150000
DTSTAMP:20260421T154312
CREATED:20170418T160412Z
LAST-MODIFIED:20170418T160412Z
UID:3163-1494604800-1494774000@alt.gjbw.de
SUMMARY:Upgrade Demokratie. Auf uns kommt es an – Landesmitgliederversammlung
DESCRIPTION: \nVom 12.-14.5.2017 findet unsere nächste Landesmitgliederversammlung in Aalen statt. \nUnser Schwerpunktthema wird Demokratie sein und wir freuen uns deshalb sehr\, dass wir zum Einstieg in unser LMV-Wochenende das Zentrum für Politische Schönheit für eine öffentliche Veranstaltung gewinnen konnten.\nInhaltlich wird es neben der Antragsdebatte zur Demokratieresolution auch wieder spannende Workshops geben – unter anderem zum Thema Schöffendemokratie und der Frage\, ob sich der Klimawandel überhaupt demokratisch aufhalten lässt. Außerdem bieten wir auch einen praktischen Workshop zu gekonntem Parieren rechter Rhetorik an.\nAn diesem Wochenende werden wir den gesamten Landesvorstand neu wählen und Voten für den Landesvorstand der Grünen vergeben.\nDer Spaß und das Feiern kommen auf unserer LMV natürlich auch nicht zu kurz und es wird eine legendäre LMV-Party geben. \nWeitere Infos und Anmdeldung gibts unter lmv.gjbw.de. \n  \n
URL:https://alt.gjbw.de/veranstaltung/upgrade-demokratie-auf-uns-kommt-es-an-landesmitgliederversammlung/
LOCATION:Hirschbachstr. 64\, Aalen
END:VEVENT
END:VCALENDAR