BEGIN:VCALENDAR
VERSION:2.0
PRODID:-//Grüne Jugend Baden-Württemberg - ECPv4.6.10.1//NONSGML v1.0//EN
CALSCALE:GREGORIAN
METHOD:PUBLISH
X-WR-CALNAME:Grüne Jugend Baden-Württemberg
X-ORIGINAL-URL:https://alt.gjbw.de
X-WR-CALDESC:Veranstaltungen für Grüne Jugend Baden-Württemberg
BEGIN:VEVENT
DTSTART;TZID=UTC+1:20160417T103000
DTEND;TZID=UTC+1:20160417T170000
DTSTAMP:20260421T185458
CREATED:20160407T143244Z
LAST-MODIFIED:20160407T143244Z
UID:2516-1460889000-1460912400@alt.gjbw.de
SUMMARY:Urban Gardening Seminar: Stadt beGRÜNen
DESCRIPTION:Endlich ist es so weit! Nach der LMV in Stuttgart im November haben wir Feiertage\, Klausuren\, einen erfolgreichen Wahlkampf und manche sogar ihr Abitur bestritten. \nDer KoBi lädt euch ein euer Wissen um Pflanzen in der Stadt zu erweitern und möchte euch die Mittel in die Hand geben eure Stadt zu beGRÜNen. \nWir steigen ein mit einem Überblick über die Möglichkeiten\, Pflanzen und Stadt in Einklang zu bringen\, wir haben Referent*innen verschiedener Projekte eingeladen und wir lassen auch die Praxis nicht außen vor und basteln gemeinsam die basic supplies fürs Guerilla Gardening in eurer Stadt. \nEs wird eine Mittagspause zum Essen geben und Teilnehmenden mit einer längeren Anreise möchten wir einen Schlafplatz anbieten. \nAnmelden könnt ihr euch mit folgendem Link indem ihr euch in die Spreadsheet eintragt: \nhttps://docs.google.com/spreadsheets/d/19b-hvtDaEXfCrhZqm8hVdbn4a4rI4MTONfdgOMm1Rcc/edit?usp=sharing \nJe früher ihr das tut\, umso besser können wir planen! \nLiebe Grüße\, euer Koordinationskreis Bildung \n
URL:https://alt.gjbw.de/veranstaltung/urban-gardening-seminar-stadt-begruenen/
LOCATION:Königstraße 78\, Stuttgart
ATTACH;FMTTYPE=image/jpeg:https://alt.gjbw.de/wp-content/uploads/2016/04/20160416_Stadt-begrünen_HP-Titel.jpg
END:VEVENT
END:VCALENDAR