BEGIN:VCALENDAR
VERSION:2.0
PRODID:-//Grüne Jugend Baden-Württemberg - ECPv4.6.10.1//NONSGML v1.0//EN
CALSCALE:GREGORIAN
METHOD:PUBLISH
X-WR-CALNAME:Grüne Jugend Baden-Württemberg
X-ORIGINAL-URL:https://alt.gjbw.de
X-WR-CALDESC:Veranstaltungen für Grüne Jugend Baden-Württemberg
BEGIN:VEVENT
DTSTART;TZID=UTC+1:20160211T200000
DTEND;TZID=UTC+1:20160211T220000
DTSTAMP:20260421T185839
CREATED:20160204T110939Z
LAST-MODIFIED:20160204T110939Z
UID:2320-1455220800-1455228000@alt.gjbw.de
SUMMARY:Von Syrien nach Karlsruhe: Fotovortrag
DESCRIPTION:Fotovortrag zur Flucht über die „Balkanroute“ \nWie sehen aktuelle Fluchtrouten für Menschen aus\, die in Europa Zuflucht suchen?\nWelchen Hindernissen sind Menschen auf der Flucht ausgesetzt?\nWas bedeutet das für europäische Asylpolitik? \nDer Fotograf und ehemalige Sprecher im Bundesvorstand der Grünen Jugend Erik Marquardt war 2015 und 2016 auf der sog. Balkanroute unterwegs\, um die Menschen auf ihrer lebensgefährlichen Flucht in Richtung Europa zu begleiten. Dabei dokumentiert er eindrucksvoll den Weg von der Türkei bis nach Deutschland. \nDie Veranstaltung wird in Kooperation mit der Grünen Jugend Karlsruhe durchgeführt. \nHier geht’s zum Facebook-Event: https://www.facebook.com/events/1495068514136003/ \n
URL:https://alt.gjbw.de/veranstaltung/von-syrien-nach-karlsruhe-fotovortrag/
LOCATION:Steinstraße 23\, Karlsruhe\, 76133\, Deutschland
END:VEVENT
END:VCALENDAR