BEGIN:VCALENDAR
VERSION:2.0
PRODID:-//Grüne Jugend Baden-Württemberg - ECPv4.6.10.1//NONSGML v1.0//EN
CALSCALE:GREGORIAN
METHOD:PUBLISH
X-WR-CALNAME:Grüne Jugend Baden-Württemberg
X-ORIGINAL-URL:https://alt.gjbw.de
X-WR-CALDESC:Veranstaltungen für Grüne Jugend Baden-Württemberg
BEGIN:VEVENT
DTSTART;TZID=UTC+1:20151219T120000
DTEND;TZID=UTC+1:20151220T120000
DTSTAMP:20260421T204228
CREATED:20151014T141103Z
LAST-MODIFIED:20151216T151611Z
UID:2187-1450526400-1450612800@alt.gjbw.de
SUMMARY:Weihnachtsfeier\, Winterfeier... feier doch\, was du willst!
DESCRIPTION:Ein weiteres turbulentes Jahr neigt sich dem Ende zu und das wollen wir vom 19.12 auf den 20.12.15 feiern! Bevor es aber an die Sektkorken und die Club Mate geht\, beschäftigen wir uns inhaltlich mit dem Thema Klimawandel und Flucht. Das letzte halbe Jahr stand im Vorfeld des Klimagipfels in Paris unter dem Motto „100 % Öko – für eine coolere Welt“. Da aber die öffentliche Debatte vor allem beherrscht war vom Thema „Menschen auf der Flucht“ wollen wir beide Themen verbinden. Dazu wird es einen Workshop von Michael Bloss\, Mitarbeiter von Ska Keller (MdEP) und ehemaliger Sprecher der Federation of Young European Greens (FYEG). \nWir freuen uns\, dass wir zusammen mit der GJ Stuttgart wieder das Jugendhaus Nord (Anfahrt) buchen konnten\, in dem wir abends Stuttgarts beste Falafel serviert bekommen und danach mit Feuerzangenbowle\, Bier und Antialkoholischem das Jahr kaputtraven. Natürlich könnt ihr wieder im Jugendhaus übernachten. Bringt dafür Isomatte\, Schlafsack und Co. mit. Gar nicht so unernster Fun-Fact: Das Haus hat uns absolutes „Glitter“ (sic!) Verbot ausgesprochen. \nFahrtkosten werden wie üblich zum BahnCard-50-Tarif erstattet. Wir freuen uns aber\, wenn ihr den kostengünstigeren Nahverkehr und Gruppentickets nutzt.\nDamit wir gut planen können\, wäre es gut\, wenn ihr euch spätestens bis zum 17. Dezember per Mail bei uns anmeldet: marcel.roth@gjbw.de \nPROGRAMM:\nSamstag\, 20.12.2014\nbis 16 Uhr: Ankommen\n16:00-16:20 Uhr Begrüßung und Programmvorstellung\n16:30-18.00 Uhr Workshop: Klimawandel und Flucht (Anfragen laufen noch)\n18:30-19.30 Uhr Essen: Falafel und Co. vom Imbiss Beirut\n19:30-21:30 Uhr Diskussion: COP21 – Bewertung aus junggrüner Sicht + Film zum Thema „Klimawandel und Migration“\nAb 22:00 Uhr Party \nSonntag\, 21.12.2014\n10:00 Uhr Frühstück & gemeinsames Aufräumen \n
URL:https://alt.gjbw.de/veranstaltung/vormerken-weihnachtsfeier-der-gjbw/
LOCATION:Mittnachtstraße 20\, Stuttgart
END:VEVENT
END:VCALENDAR