BEGIN:VCALENDAR
VERSION:2.0
PRODID:-//Grüne Jugend Baden-Württemberg - ECPv4.6.10.1//NONSGML v1.0//EN
CALSCALE:GREGORIAN
METHOD:PUBLISH
X-WR-CALNAME:Grüne Jugend Baden-Württemberg
X-ORIGINAL-URL:https://alt.gjbw.de
X-WR-CALDESC:Veranstaltungen für Grüne Jugend Baden-Württemberg
BEGIN:VEVENT
DTSTART;VALUE=DATE:20160617
DTEND;VALUE=DATE:20160620
DTSTAMP:20260421T183429
CREATED:20160524T143019Z
LAST-MODIFIED:20160610T173159Z
UID:2585-1466121600-1466380799@alt.gjbw.de
SUMMARY:Zusammen. Leben. Jetzt! in Straßburg
DESCRIPTION:Vom 17. bis 19. Juni möchten wir euch herzlich einladen zusammen mit unter anderem Saliou Gueye (Mitglied im Nachhaltigkeitsbeirat)\, Thaksan Sothinathan (Uni Aachen)\, Emran Feroz (Journalist u.a. ZeitOnline\, DiePresse) und Cécil Germain und französischen Junggrünen über die verschiedensten Aspekte von Integrationspolitik zu diskutieren. \nEinen vorläufigen Ablaufplan findet ihr unten. \nDie Unterbringung findet inkl. Verpflegung im Ciarus statt (www.ciarus.com)\, dort finden auch die Workshops statt. Die Fahrtkosten erstatten wir wie immer zum  BahnCard50 Tarif. \nAnmelden könnt ihr euch per Mail an tobias.bacherle@gjbw.de oder auf Telegram unter +491516175872. \n  \n  \nVorläufiges Programm: \nFreitag: \nBis 18.30 Uhr Anreise \nAb 18.30 – 20.00 Uhr Abendessen \nOffenes Abendprogramm \nSamstag:  \nBis 9.00 Uhr Frühstück \n10.00 Uhr – Integration auf kommunaler Ebene (Arbeitstitel)  mit Saliou Gueye \n12.00 Uhr – Mittagessen \n14.00 Uhr – Islamhass und die deutsche Einwanderungsgesellschaft (AT) mit Emran Feroz \n16.30 Uhr – Integrationspolitik im europäischen Vergleich  mit Celiné Germain (engl.\, zusammen mit GJ Straßburg) \n18.30 Uhr – Abendessen \nAbends Ausklang mit der Grünen Jugend Straßburg \nSonntag: \nBis 9.00 Uhr Frühstück \n10.00 Uhr – Integration angepackt: Von der Geschichte über der Idee zum konkreten Projekt mit Thaksan Sothinathan \n12.00 Uhr – Mittagessen \n13.30 Uhr – tba \n15.00 Uhr – Schlussrunde & Aufräumen \n15.30 Uhr – Ende und Heimreise \n
URL:https://alt.gjbw.de/veranstaltung/zusammen-leben-jetzt-in-strassburg/
LOCATION:Straßburg
END:VEVENT
END:VCALENDAR